BEGIN:VCALENDAR
VERSION:2.0
PRODID:-//CERA Global Association - ECPv6.15.20//NONSGML v1.0//EN
CALSCALE:GREGORIAN
METHOD:PUBLISH
X-WR-CALNAME:CERA Global Association
X-ORIGINAL-URL:https://ceraglobal.org
X-WR-CALDESC:Events for CERA Global Association
REFRESH-INTERVAL;VALUE=DURATION:PT1H
X-Robots-Tag:noindex
X-PUBLISHED-TTL:PT1H
BEGIN:VTIMEZONE
TZID:Europe/London
BEGIN:DAYLIGHT
TZOFFSETFROM:+0000
TZOFFSETTO:+0100
TZNAME:BST
DTSTART:20180325T010000
END:DAYLIGHT
BEGIN:STANDARD
TZOFFSETFROM:+0100
TZOFFSETTO:+0000
TZNAME:GMT
DTSTART:20181028T010000
END:STANDARD
BEGIN:DAYLIGHT
TZOFFSETFROM:+0000
TZOFFSETTO:+0100
TZNAME:BST
DTSTART:20190331T010000
END:DAYLIGHT
BEGIN:STANDARD
TZOFFSETFROM:+0100
TZOFFSETTO:+0000
TZNAME:GMT
DTSTART:20191027T010000
END:STANDARD
BEGIN:DAYLIGHT
TZOFFSETFROM:+0000
TZOFFSETTO:+0100
TZNAME:BST
DTSTART:20200329T010000
END:DAYLIGHT
BEGIN:STANDARD
TZOFFSETFROM:+0100
TZOFFSETTO:+0000
TZNAME:GMT
DTSTART:20201025T010000
END:STANDARD
END:VTIMEZONE
BEGIN:VEVENT
DTSTART;VALUE=DATE:20190403
DTEND;VALUE=DATE:20190405
DTSTAMP:20260422T094552
CREATED:20181107T000000Z
LAST-MODIFIED:20221021T194651Z
UID:14785-1554249600-1554422399@ceraglobal.org
SUMMARY:CERA\, Module D: ERM – Economic Capital - April 2019
DESCRIPTION:The present seminar is concerned with the question of economic capital in corporate management. \nKey aspects are \n\neconomic valuation and performance\neconomic steering\nkey performance indicators\nvalue based management\n\nA simplified case study of a German life insurer shows in a nutshell the central aspects of corporate management in practice. \nThe course consists of lectures and workshops. Participants are encouraged to bring their own topics to discussion. \nOrganised by the EAA – European Actuarial Academy GmbH in cooperation with the Instituto de Actuarios Españoles. \nFor further CERA courses organised by the EAA\, visit our events page.
URL:https://ceraglobal.org/event/event-eaa-module-d-april-2019/
CATEGORIES:CERA events
ATTACH;FMTTYPE=:
END:VEVENT
END:VCALENDAR