BEGIN:VCALENDAR
VERSION:2.0
PRODID:-//CERA Global Association - ECPv6.15.20//NONSGML v1.0//EN
CALSCALE:GREGORIAN
METHOD:PUBLISH
X-WR-CALNAME:CERA Global Association
X-ORIGINAL-URL:https://ceraglobal.org
X-WR-CALDESC:Events for CERA Global Association
REFRESH-INTERVAL;VALUE=DURATION:PT1H
X-Robots-Tag:noindex
X-PUBLISHED-TTL:PT1H
BEGIN:VTIMEZONE
TZID:Europe/London
BEGIN:DAYLIGHT
TZOFFSETFROM:+0000
TZOFFSETTO:+0100
TZNAME:BST
DTSTART:20250330T010000
END:DAYLIGHT
BEGIN:STANDARD
TZOFFSETFROM:+0100
TZOFFSETTO:+0000
TZNAME:GMT
DTSTART:20251026T010000
END:STANDARD
BEGIN:DAYLIGHT
TZOFFSETFROM:+0000
TZOFFSETTO:+0100
TZNAME:BST
DTSTART:20260329T010000
END:DAYLIGHT
BEGIN:STANDARD
TZOFFSETFROM:+0100
TZOFFSETTO:+0000
TZNAME:GMT
DTSTART:20261025T010000
END:STANDARD
BEGIN:DAYLIGHT
TZOFFSETFROM:+0000
TZOFFSETTO:+0100
TZNAME:BST
DTSTART:20270328T010000
END:DAYLIGHT
BEGIN:STANDARD
TZOFFSETFROM:+0100
TZOFFSETTO:+0000
TZNAME:GMT
DTSTART:20271031T010000
END:STANDARD
END:VTIMEZONE
BEGIN:VEVENT
DTSTART;VALUE=DATE:20260217
DTEND;VALUE=DATE:20260221
DTSTAMP:20260422T140738
CREATED:20251001T114915Z
LAST-MODIFIED:20251001T115525Z
UID:37776-1771286400-1771631999@ceraglobal.org
SUMMARY:E0540 Web Session 'CERA\, Module A: Quantitative Methods of ERM'
DESCRIPTION:See below the programme and registration information\, \nPreliminary Programme \nTuesday\, 17 February 2026 \n09:00 – 09:30 Overview of the EAA-route to the CERA designation (Frey\, Wolf)\n09:30 – 10:30 Risk measures (Wolf)\n10:30 – 10:45 Break\n10:45 – 11:30 Risk Measures (Wolf)\n11:30 – 11:45 Break\n11:45 – 12:30 Risk Measures and Exercises (Wolf)\n12:30 – 13:30 Break\n13:30 – 14:15 Exercises (Wolf)\n14:15 – 15:15 Tails of distributions and Extreme value theory (Frey) \nWednesday\, 18 February 2026 \n09:00 – 10.30 Multivariate Models and Copulas (Frey)\n10:30 – 10:45 Break\n10:45 – 11:30 Dependence Modelling and copulas (Frey)\n11:30 – 11:45 Break\n11:45 – 12:30 Dependence Modelling and exercises (Frey)\n12:30 – 13:30 Break\n13:30 – 15:00 Integrated Risk Management and exercises (Frey) \nThursday\, 19 February 2026 \n09:00 – 10:30 Interest rates: products and models (Wolf)\n10:30 – 10:45 Break10:45 – 11:30 Interest-rate models (Wolf)\n11:30 – 11:45 Break\n11:45 – 12:30 Exercises (Wolf)\n12:30 – 13:30 Break\n13:30 – 15:15 Interest rate risk management (incl. exercises) (Wolf) \nFriday\, 20 February 2026 \n09:00 – 10:15 Credit risk: basics and modelling (Frey)\n10:15 – 10:30 Break\n10:30 – 11:30 Credit Risk modelling (Frey)\n11:30 – 11:45 Break\n11:45 – 12:30 Credit risk: modelling and management (Frey)\n12:30 – 13:30 Break\n13:30 – 14:30 Credit risk: special topics and exercises (Frey) \nAll the above times are given in CET (Central European Time). \n  \nFees & Registration \nEarly Bird Registration Fee (until 6 January 2026): \n• For private customers in the EU: €975.00 + VAT of the billing country (example Germany:\n€1\,160.75 incl. 19% VAT)\n• For private customers outside the EU: €1\,160.75 (incl. 19% VAT)\n• For businesses within the EU (excl. Germany\, with valid VAT ID): €975.00 (net\, reverse\ncharge applies)\n• For businesses in Germany: €1\,160.75 (incl. 19% VAT) \nRegular Registration Fee (from 7 January 2026): \n• For private customers in the EU: €1\,080.00 + VAT of the billing country (example\nGermany: €1\,285.20 incl. 19% VAT)\n• For private customers outside the EU: €1\,285.20 (incl. 19% VAT)\n• For businesses within the EU (excl. Germany\, with valid VAT ID): €1\,080.00 (net\, reverse\ncharge applies)\n• For businesses in Germany: €1\,285.20 (incl. 19% VAT) \nImportant VAT Information: \n• For private customers with a billing address in an EU country: VAT will be charged at the\napplicable rate in the country of the billing address. The final amount\, including VAT\, will\nbe calculated upon invoicing.\n• For customers with a non-EU (third country) billing address: Only a non-company billing\naddress is accepted for VAT compliance reasons. 19% VAT applies to all non-EU private\ncustomers.\n• For businesses within the EU (excluding Germany)\, Iceland\, Liechtenstein\, Norway\,\nSwitzerland\, and the UK with a valid VAT ID: The reverse charge mechanism applies (net\nprice; VAT will not be charged). Please ensure your valid VAT ID is entered correctly\nduring registration.\n• For all customers with a billing address in Germany: 19% VAT applies \nPlease submit your registration using this online booking form. Closer to the event\, you will receive further login details to join the web session. \nFor more information\, please download the information pack here.
URL:https://ceraglobal.org/event/e0540-web-session-cera-module-a-quantitative-methods-of-erm/
ATTACH;FMTTYPE=image/jpeg:https://ceraglobal.org/wp-content/uploads/2023/07/eaa_Logo_rgb_neu.jpg
END:VEVENT
END:VCALENDAR